BEGIN:VCALENDAR
PRODID:-//Compnay Inc//Product Application//EN
VERSION:2.0
METHOD:PUBLISH
BEGIN:VEVENT
DTSTART:20180821T160000Z
DTEND:20180821T200000Z
DTSTAMP:20260419T151428Z
UID:7d40d9ae-0440-457f-b8ce-cf9669bdda06
CREATED:20260419T151428Z
X-ALT-DESC;FMTTYPE=text/html:<b>Časový plán na koncert Die Antwoord je nasledovný: </b><br>18:00 otvorenie haly<br>
19:30 - 20:00 Moonchild Sanelly<br>
20:30 - 21:45 Die Antwoord<br>
<p></p><p>Juhoafrickí Die Antwoord zahrajú v&nbsp;utorok 21. augusta 2018 v&nbsp;Bratislave. Vstupenky od 39,50&nbsp;€ sa predávajú exkluzívne cez Listocheck.sk. Duo Ninja a&nbsp;Yolandi Visser o&nbsp;konkrétnej bratislavskej show neprezradili nič. Vraj je to tak lepšie :)</p>

<p>Dvojica získala svetovú popularitu najmä kotroverznými videoklipmi a&nbsp;silnými textami odkazujúcimi na juho-africkú (sub)kultúru Zef. Hudobne skáču kdesi medzi raveom, hip-hopom, popom, technom, atď. Ich najväčšími hitmi sú Enter the Ninja,&nbsp;Ritch Bitch, I&nbsp;Fink you Freaky, Baby’s on Fire, Fatty Boom Boom, Ugly Boy či Banana Brain. Ninja a Yolandi si zahrali vo filme Chappie od Neilla Bloomkampa (District 9, Elysium). A&nbsp;vôbec, pri Die Antwoord slová nemajú veľký zmysel. Vo vlastnom oficálnom životopise citujú magazín Vice: <em>Snažiť sa spoznať Die Antwoord pri počítači je ako špliechať vo vírivke v&nbsp;snahe spoznať oceán.</em></p>

<p><em><iframe allowfullscreen="" frameborder="0" height="360" src="//www.youtube.com/embed/XXlZfc1TrD0" width="640"></iframe></em></p>
LAST-MODIFIED:20260419T151428Z
LOCATION:Príkopova, Príkopova, 83103 Bratislava, Slovenská republika
SEQUENCE:0
STATUS:CONFIRMED
SUMMARY:Die Antwoord
TRANSP:OPAQUE
END:VEVENT
END:VCALENDAR
