BEGIN:VCALENDAR
PRODID:-//Compnay Inc//Product Application//EN
VERSION:2.0
METHOD:PUBLISH
BEGIN:VEVENT
DTSTART:20260528T180000Z
DTEND:20260528T203000Z
DTSTAMP:20260420T025423Z
UID:5767a28c-4863-47af-9ee8-de81533eb5a8
CREATED:20260420T025423Z
X-ALT-DESC;FMTTYPE=text/html:<b>bbno$ prvýkrát na Slovensku!</b>
<br><br>Kanadský rapper a spevák <b>bbno$</b> patrí medzi najväčšie mená digitálnej éry hudby – a po rokoch čakania konečne dorazí aj na Slovensko!
Od legendárneho „Lalala“, ktoré definovalo začiatky TikToku, cez nezabudnuteľný banger „Edamame“ až po jeho najnovší hit „1-800“ s virtuálnou hviezdou Ironmouse – bbno$ má na konte skladby, ktoré poznajú milióny ľudí po celom svete. A teraz ich zahrá aj slovenskému publiku.
<br><br>Jeho koncerty sú známe výbušnou energiou, humorom a schopnosťou prepojiť internetovú kultúru s nezabudnuteľnou show naživo. Vypredané turné v Severnej Amerike, Európe, Austrálii aj na Novom Zélande dokazujú, že tento fenomén sa stal pevnou súčasťou globálnej hudobnej scény.
<br><br>Nenechaj si ujsť slovenskú premiéru interpreta, ktorý mení pravidlá hudobného priemyslu. Tento večer bude patriť hudbe, zábave a digitálnej generácii.
<br><br>Vstupenky ( od 36,30 EUR ) v predaji od <b>2. septembra 2025</b> 
<br><br>Od 10:00 hod. špeciálny Spotify presale
<br>Od 12:00 hod. verejný predaj
LAST-MODIFIED:20260420T025423Z
LOCATION:Karpatská 3089/2, Karpatská 3089/2, 811 05 Bratislava, Slovenská republika
SEQUENCE:0
STATUS:CONFIRMED
SUMMARY:bbno$
TRANSP:OPAQUE
END:VEVENT
END:VCALENDAR
